Package: liftOver Version: 1.33.1 Command: /Library/Frameworks/R.framework/Resources/bin/R CMD INSTALL liftOver StartedAt: 2025-10-28 13:00:54 -0400 (Tue, 28 Oct 2025) EndedAt: 2025-10-28 13:01:21 -0400 (Tue, 28 Oct 2025) EllapsedTime: 26.9 seconds RetCode: 0 Status: OK