Package: liftOver Version: 1.33.1 Command: /Library/Frameworks/R.framework/Resources/bin/R CMD build --keep-empty-dirs --no-resave-data liftOver StartedAt: 2025-10-28 13:04:08 -0400 (Tue, 28 Oct 2025) EndedAt: 2025-10-28 13:04:58 -0400 (Tue, 28 Oct 2025) EllapsedTime: 50.3 seconds RetCode: 0 Status: OK PackageFile: liftOver_1.33.1.tar.gz PackageFileSize: 4.374 MiB