Package: generegulation Version: 1.32.0 Command: /home/biocbuild/bbs-3.21-bioc/R/bin/R CMD INSTALL generegulation StartedAt: 2025-09-30 13:00:18 -0400 (Tue, 30 Sep 2025) EndedAt: 2025-09-30 13:01:00 -0400 (Tue, 30 Sep 2025) EllapsedTime: 42.3 seconds RetCode: 0 Status: OK