Package: generegulation Version: 1.32.0 Command: /home/biocbuild/bbs-3.21-bioc/R/bin/R CMD build --keep-empty-dirs --no-resave-data generegulation StartedAt: 2025-09-30 13:04:58 -0400 (Tue, 30 Sep 2025) EndedAt: 2025-09-30 13:06:07 -0400 (Tue, 30 Sep 2025) EllapsedTime: 69.0 seconds RetCode: 0 Status: OK PackageFile: generegulation_1.32.0.tar.gz PackageFileSize: 1.288 MiB