Package: generegulation Version: 1.32.0 Command: /Library/Frameworks/R.framework/Resources/bin/R CMD build --keep-empty-dirs --no-resave-data generegulation StartedAt: 2025-10-14 13:11:21 -0400 (Tue, 14 Oct 2025) EndedAt: 2025-10-14 13:15:10 -0400 (Tue, 14 Oct 2025) EllapsedTime: 229.2 seconds RetCode: 0 Status: OK PackageFile: generegulation_1.32.0.tar.gz PackageFileSize: 1.514 MiB