Package: cytofWorkflow Version: 1.32.0 Command: /Library/Frameworks/R.framework/Resources/bin/R CMD build --keep-empty-dirs --no-resave-data cytofWorkflow StartedAt: 2025-09-30 13:10:31 -0400 (Tue, 30 Sep 2025) EndedAt: 2025-09-30 13:23:33 -0400 (Tue, 30 Sep 2025) EllapsedTime: 781.9 seconds RetCode: 0 Status: OK PackageFile: cytofWorkflow_1.32.0.tar.gz PackageFileSize: 6.811 MiB