Package: SingscoreAMLMutations Version: 1.26.0 Command: /home/biocbuild/bbs-3.22-bioc/R/bin/R CMD INSTALL SingscoreAMLMutations StartedAt: 2025-11-04 13:00:36 -0500 (Tue, 04 Nov 2025) EndedAt: 2025-11-04 13:01:19 -0500 (Tue, 04 Nov 2025) EllapsedTime: 43.0 seconds RetCode: 0 Status: OK