Package: RnaSeqGeneEdgeRQL Version: 1.32.0 Command: E:\biocbuild\bbs-3.21-bioc\R\bin\R.exe CMD INSTALL RnaSeqGeneEdgeRQL StartedAt: 2025-08-15 13:01:35 -0400 (Fri, 15 Aug 2025) EndedAt: 2025-08-15 13:01:47 -0400 (Fri, 15 Aug 2025) EllapsedTime: 12.6 seconds RetCode: 0 Status: OK