Package: RnaSeqGeneEdgeRQL Version: 1.33.1 Command: /home/biocbuild/bbs-3.22-bioc/R/bin/R CMD INSTALL RnaSeqGeneEdgeRQL StartedAt: 2025-10-28 13:00:19 -0400 (Tue, 28 Oct 2025) EndedAt: 2025-10-28 13:00:30 -0400 (Tue, 28 Oct 2025) EllapsedTime: 10.1 seconds RetCode: 0 Status: OK