Package: RnaSeqGeneEdgeRQL Version: 1.33.1 Command: /home/biocbuild/bbs-3.22-bioc/R/bin/R CMD build --keep-empty-dirs --no-resave-data RnaSeqGeneEdgeRQL StartedAt: 2025-10-28 13:10:19 -0400 (Tue, 28 Oct 2025) EndedAt: 2025-10-28 13:11:35 -0400 (Tue, 28 Oct 2025) EllapsedTime: 76.0 seconds RetCode: 0 Status: OK PackageFile: RnaSeqGeneEdgeRQL_1.33.1.tar.gz PackageFileSize: 1.596 MiB