Package: RNAseq123 Version: 1.32.0 Command: /Library/Frameworks/R.framework/Resources/bin/R CMD INSTALL RNAseq123 StartedAt: 2025-09-26 13:04:11 -0400 (Fri, 26 Sep 2025) EndedAt: 2025-09-26 13:05:34 -0400 (Fri, 26 Sep 2025) EllapsedTime: 83.8 seconds RetCode: 0 Status: OK