Package: RNAseq123 Version: 1.32.0 Command: /Library/Frameworks/R.framework/Resources/bin/R CMD build --keep-empty-dirs --no-resave-data RNAseq123 StartedAt: 2025-09-26 13:48:59 -0400 (Fri, 26 Sep 2025) EndedAt: 2025-09-26 13:54:40 -0400 (Fri, 26 Sep 2025) EllapsedTime: 340.9 seconds RetCode: 0 Status: OK PackageFile: RNAseq123_1.32.0.tar.gz PackageFileSize: 7.245 MiB