Package: EGSEA123 Version: 1.34.0 Command: /home/biocbuild/bbs-3.22-bioc/R/bin/R CMD build --keep-empty-dirs --no-resave-data EGSEA123 StartedAt: 2025-11-04 13:04:57 -0500 (Tue, 04 Nov 2025) EndedAt: 2025-11-04 13:11:13 -0500 (Tue, 04 Nov 2025) EllapsedTime: 376.2 seconds RetCode: 0 Status: OK PackageFile: EGSEA123_1.34.0.tar.gz PackageFileSize: 1.907 MiB