Package: EGSEA123 Version: 1.34.0 Command: /Library/Frameworks/R.framework/Resources/bin/R CMD INSTALL EGSEA123 StartedAt: 2025-11-04 13:01:43 -0500 (Tue, 04 Nov 2025) EndedAt: 2025-11-04 13:02:10 -0500 (Tue, 04 Nov 2025) EllapsedTime: 27.6 seconds RetCode: 0 Status: OK