Package: EGSEA123 Version: 1.34.0 Command: /Library/Frameworks/R.framework/Resources/bin/R CMD build --keep-empty-dirs --no-resave-data EGSEA123 StartedAt: 2025-11-04 13:04:44 -0500 (Tue, 04 Nov 2025) EndedAt: 2025-11-04 13:10:26 -0500 (Tue, 04 Nov 2025) EllapsedTime: 342.1 seconds RetCode: 0 Status: OK PackageFile: EGSEA123_1.34.0.tar.gz PackageFileSize: 2.083 MiB