Package: CAGEWorkflow Version: 1.26.0 Command: /home/biocbuild/bbs-3.22-bioc/R/bin/R CMD INSTALL CAGEWorkflow StartedAt: 2025-11-04 13:00:39 -0500 (Tue, 04 Nov 2025) EndedAt: 2025-11-04 13:01:13 -0500 (Tue, 04 Nov 2025) EllapsedTime: 34.1 seconds RetCode: 0 Status: OK