Package: CAGEWorkflow Version: 1.26.0 Command: /home/biocbuild/bbs-3.22-bioc/R/bin/R CMD build --keep-empty-dirs --no-resave-data CAGEWorkflow StartedAt: 2025-11-04 13:04:57 -0500 (Tue, 04 Nov 2025) EndedAt: 2025-11-04 13:13:18 -0500 (Tue, 04 Nov 2025) EllapsedTime: 501.0 seconds RetCode: 0 Status: OK PackageFile: CAGEWorkflow_1.26.0.tar.gz PackageFileSize: 815.6 KiB