Package: CAGEWorkflow Version: 1.24.0 Command: /Library/Frameworks/R.framework/Resources/bin/R CMD INSTALL CAGEWorkflow StartedAt: 2025-10-07 13:01:59 -0400 (Tue, 07 Oct 2025) EndedAt: 2025-10-07 13:03:34 -0400 (Tue, 07 Oct 2025) EllapsedTime: 94.6 seconds RetCode: 0 Status: OK