Package: CAGEWorkflow Version: 1.24.0 Command: /Library/Frameworks/R.framework/Resources/bin/R CMD build --keep-empty-dirs --no-resave-data CAGEWorkflow StartedAt: 2025-10-07 13:10:40 -0400 (Tue, 07 Oct 2025) EndedAt: 2025-10-07 13:32:37 -0400 (Tue, 07 Oct 2025) EllapsedTime: 1317.2 seconds RetCode: 0 Status: OK PackageFile: CAGEWorkflow_1.24.0.tar.gz PackageFileSize: 906.9 KiB