Package: BP4RNAseq Version: 1.18.0 Command: /Library/Frameworks/R.framework/Resources/bin/R CMD INSTALL BP4RNAseq StartedAt: 2025-10-14 13:00:40 -0400 (Tue, 14 Oct 2025) EndedAt: 2025-10-14 13:00:50 -0400 (Tue, 14 Oct 2025) EllapsedTime: 9.8 seconds RetCode: 0 Status: OK