Package: zebrafishRNASeq Version: 1.30.0 Command: /home/biocbuild/bbs-3.22-bioc/R/bin/R CMD build --keep-empty-dirs --no-resave-data zebrafishRNASeq StartedAt: 2025-10-30 12:01:55 -0400 (Thu, 30 Oct 2025) EndedAt: 2025-10-30 12:01:59 -0400 (Thu, 30 Oct 2025) EllapsedTime: 4.8 seconds RetCode: 0 Status: OK PackageFile: zebrafishRNASeq_1.30.0.tar.gz PackageFileSize: 429 KiB