Package: yeastRNASeq Version: 0.48.0 Command: /home/biocbuild/bbs-3.22-bioc/R/bin/R CMD check --install=check:yeastRNASeq.install-out.txt --library=/home/biocbuild/bbs-3.22-bioc/R/site-library --timings yeastRNASeq_0.48.0.tar.gz StartedAt: 2025-11-04 13:13:34 -0500 (Tue, 04 Nov 2025) EndedAt: 2025-11-04 13:18:31 -0500 (Tue, 04 Nov 2025) EllapsedTime: 296.8 seconds RetCode: 0 Status: WARNINGS CheckDir: yeastRNASeq.Rcheck Warnings: 1