Package: yeastNagalakshmi Version: 1.46.0 Command: /home/biocbuild/bbs-3.22-bioc/R/bin/R CMD check --install=check:yeastNagalakshmi.install-out.txt --library=/home/biocbuild/bbs-3.22-bioc/R/site-library --timings yeastNagalakshmi_1.46.0.tar.gz StartedAt: 2025-11-20 13:34:34 -0500 (Thu, 20 Nov 2025) EndedAt: 2025-11-20 13:34:54 -0500 (Thu, 20 Nov 2025) EllapsedTime: 19.6 seconds RetCode: 0 Status: OK CheckDir: yeastNagalakshmi.Rcheck Warnings: 0