Package: yeastCC Version: 1.50.0 Command: /home/biocbuild/bbs-3.22-bioc/R/bin/R CMD check --install=check:yeastCC.install-out.txt --library=/home/biocbuild/bbs-3.22-bioc/R/site-library --timings yeastCC_1.50.0.tar.gz StartedAt: 2025-11-04 13:12:54 -0500 (Tue, 04 Nov 2025) EndedAt: 2025-11-04 13:13:26 -0500 (Tue, 04 Nov 2025) EllapsedTime: 32.6 seconds RetCode: 0 Status: WARNINGS CheckDir: yeastCC.Rcheck Warnings: 2