Package: yeastCC Version: 1.50.0 Command: /home/biocbuild/bbs-3.22-bioc/R/bin/R CMD build --keep-empty-dirs --no-resave-data yeastCC StartedAt: 2025-10-30 12:01:42 -0400 (Thu, 30 Oct 2025) EndedAt: 2025-10-30 12:01:44 -0400 (Thu, 30 Oct 2025) EllapsedTime: 1.9 seconds RetCode: 0 Status: OK PackageFile: yeastCC_1.50.0.tar.gz PackageFileSize: 5.842 MiB