Package: xcoredata Version: 1.14.0 Command: /home/biocbuild/bbs-3.22-bioc/R/bin/R CMD check --install=check:xcoredata.install-out.txt --library=/home/biocbuild/bbs-3.22-bioc/R/site-library --timings xcoredata_1.14.0.tar.gz StartedAt: 2025-11-04 13:11:47 -0500 (Tue, 04 Nov 2025) EndedAt: 2025-11-04 13:16:42 -0500 (Tue, 04 Nov 2025) EllapsedTime: 295.0 seconds RetCode: 0 Status: OK CheckDir: xcoredata.Rcheck Warnings: 0