Package: xcoredata Version: 1.14.0 Command: /home/biocbuild/bbs-3.22-bioc/R/bin/R CMD build --keep-empty-dirs --no-resave-data xcoredata StartedAt: 2025-11-04 11:49:12 -0500 (Tue, 04 Nov 2025) EndedAt: 2025-11-04 11:51:21 -0500 (Tue, 04 Nov 2025) EllapsedTime: 129.0 seconds RetCode: 0 Status: OK PackageFile: xcoredata_1.14.0.tar.gz PackageFileSize: 1.332 MiB