Package: vulcandata Version: 1.32.0 Command: /home/biocbuild/bbs-3.22-bioc/R/bin/R CMD check --install=check:vulcandata.install-out.txt --library=/home/biocbuild/bbs-3.22-bioc/R/site-library --timings vulcandata_1.32.0.tar.gz StartedAt: 2025-11-04 13:11:00 -0500 (Tue, 04 Nov 2025) EndedAt: 2025-11-04 13:11:21 -0500 (Tue, 04 Nov 2025) EllapsedTime: 20.5 seconds RetCode: 0 Status: OK CheckDir: vulcandata.Rcheck Warnings: 0