Package: tximportData Version: 1.38.0 Command: /home/biocbuild/bbs-3.22-bioc/R/bin/R CMD build --keep-empty-dirs --no-resave-data tximportData StartedAt: 2025-11-04 11:48:17 -0500 (Tue, 04 Nov 2025) EndedAt: 2025-11-04 11:50:44 -0500 (Tue, 04 Nov 2025) EllapsedTime: 146.4 seconds RetCode: 0 Status: OK PackageFile: tximportData_1.38.0.tar.gz PackageFileSize: 385.8 MiB