Package: tweeDEseqCountData Version: 1.48.0 Command: /home/biocbuild/bbs-3.22-bioc/R/bin/R CMD INSTALL tweeDEseqCountData StartedAt: 2025-10-30 10:56:45 -0400 (Thu, 30 Oct 2025) EndedAt: 2025-10-30 10:56:49 -0400 (Thu, 30 Oct 2025) EllapsedTime: 4.1 seconds RetCode: 0 Status: OK