Package: tweeDEseqCountData Version: 1.47.0 Command: /home/biocbuild/bbs-3.22-bioc/R/bin/R CMD check --install=check:tweeDEseqCountData.install-out.txt --library=/home/biocbuild/bbs-3.22-bioc/R/site-library --timings tweeDEseqCountData_1.47.0.tar.gz StartedAt: 2025-10-28 13:16:30 -0400 (Tue, 28 Oct 2025) EndedAt: 2025-10-28 13:17:01 -0400 (Tue, 28 Oct 2025) EllapsedTime: 31.4 seconds RetCode: 0 Status: WARNINGS CheckDir: tweeDEseqCountData.Rcheck Warnings: 1