Package: tweeDEseqCountData Version: 1.48.0 Command: /home/biocbuild/bbs-3.22-bioc/R/bin/R CMD build --keep-empty-dirs --no-resave-data tweeDEseqCountData StartedAt: 2025-10-30 12:00:13 -0400 (Thu, 30 Oct 2025) EndedAt: 2025-10-30 12:00:23 -0400 (Thu, 30 Oct 2025) EllapsedTime: 10.0 seconds RetCode: 0 Status: OK PackageFile: tweeDEseqCountData_1.48.0.tar.gz PackageFileSize: 40.83 MiB