Package: tuberculosis Version: 1.16.0 Command: /home/biocbuild/bbs-3.22-bioc/R/bin/R CMD build --keep-empty-dirs --no-resave-data tuberculosis StartedAt: 2025-11-04 11:47:48 -0500 (Tue, 04 Nov 2025) EndedAt: 2025-11-04 11:48:59 -0500 (Tue, 04 Nov 2025) EllapsedTime: 71.6 seconds RetCode: 0 Status: OK PackageFile: tuberculosis_1.16.0.tar.gz PackageFileSize: 366.6 KiB