Package: topdownrdata Version: 1.32.0 Command: /home/biocbuild/bbs-3.22-bioc/R/bin/R CMD INSTALL topdownrdata StartedAt: 2025-11-04 11:00:53 -0500 (Tue, 04 Nov 2025) EndedAt: 2025-11-04 11:01:36 -0500 (Tue, 04 Nov 2025) EllapsedTime: 43.1 seconds RetCode: 0 Status: OK