Package: tissueTreg Version: 1.30.0 Command: /home/biocbuild/bbs-3.22-bioc/R/bin/R CMD INSTALL tissueTreg StartedAt: 2025-11-04 10:55:29 -0500 (Tue, 04 Nov 2025) EndedAt: 2025-11-04 10:55:30 -0500 (Tue, 04 Nov 2025) EllapsedTime: 1.5 seconds RetCode: 0 Status: OK