Package: tissueTreg Version: 1.30.0 Command: /home/biocbuild/bbs-3.22-bioc/R/bin/R CMD build --keep-empty-dirs --no-resave-data tissueTreg StartedAt: 2025-11-04 11:47:15 -0500 (Tue, 04 Nov 2025) EndedAt: 2025-11-04 11:48:48 -0500 (Tue, 04 Nov 2025) EllapsedTime: 93.1 seconds RetCode: 0 Status: OK PackageFile: tissueTreg_1.30.0.tar.gz PackageFileSize: 684.6 KiB