Package: tinesath1cdf Version: 1.48.0 Command: /home/biocbuild/bbs-3.22-bioc/R/bin/R CMD INSTALL tinesath1cdf StartedAt: 2025-11-04 10:55:16 -0500 (Tue, 04 Nov 2025) EndedAt: 2025-11-04 10:55:17 -0500 (Tue, 04 Nov 2025) EllapsedTime: 1.2 seconds RetCode: 0 Status: OK