Package: timecoursedata Version: 1.20.0 Command: /home/biocbuild/bbs-3.22-bioc/R/bin/R CMD INSTALL timecoursedata StartedAt: 2025-11-04 11:00:41 -0500 (Tue, 04 Nov 2025) EndedAt: 2025-11-04 11:01:06 -0500 (Tue, 04 Nov 2025) EllapsedTime: 25.1 seconds RetCode: 0 Status: OK