Package: systemPipeRdata Version: 2.14.0 Command: /home/biocbuild/bbs-3.22-bioc/R/bin/R CMD INSTALL systemPipeRdata StartedAt: 2025-11-20 10:56:49 -0500 (Thu, 20 Nov 2025) EndedAt: 2025-11-20 10:57:04 -0500 (Thu, 20 Nov 2025) EllapsedTime: 14.9 seconds RetCode: 0 Status: OK