Package: systemPipeRdata Version: 2.14.0 Command: /home/biocbuild/bbs-3.22-bioc/R/bin/R CMD check --install=check:systemPipeRdata.install-out.txt --library=/home/biocbuild/bbs-3.22-bioc/R/site-library --timings systemPipeRdata_2.14.0.tar.gz StartedAt: 2025-11-20 13:22:25 -0500 (Thu, 20 Nov 2025) EndedAt: 2025-11-20 13:25:07 -0500 (Thu, 20 Nov 2025) EllapsedTime: 162.2 seconds RetCode: 0 Status: OK CheckDir: systemPipeRdata.Rcheck Warnings: 0