Package: systemPipeRdata Version: 2.14.0 Command: /home/biocbuild/bbs-3.22-bioc/R/bin/R CMD build --keep-empty-dirs --no-resave-data systemPipeRdata StartedAt: 2025-11-20 11:47:53 -0500 (Thu, 20 Nov 2025) EndedAt: 2025-11-20 11:49:01 -0500 (Thu, 20 Nov 2025) EllapsedTime: 67.5 seconds RetCode: 0 Status: OK PackageFile: systemPipeRdata_2.14.0.tar.gz PackageFileSize: 272.7 MiB