Package: spatialDmelxsim Version: 1.16.0 Command: /home/biocbuild/bbs-3.22-bioc/R/bin/R CMD INSTALL spatialDmelxsim StartedAt: 2025-10-30 11:04:13 -0400 (Thu, 30 Oct 2025) EndedAt: 2025-10-30 11:04:45 -0400 (Thu, 30 Oct 2025) EllapsedTime: 32.1 seconds RetCode: 0 Status: OK