Package: spatialDmelxsim Version: 1.16.0 Command: /home/biocbuild/bbs-3.22-bioc/R/bin/R CMD build --keep-empty-dirs --no-resave-data spatialDmelxsim StartedAt: 2025-10-30 11:54:32 -0400 (Thu, 30 Oct 2025) EndedAt: 2025-10-30 11:55:33 -0400 (Thu, 30 Oct 2025) EllapsedTime: 61.1 seconds RetCode: 0 Status: OK PackageFile: spatialDmelxsim_1.16.0.tar.gz PackageFileSize: 890.7 KiB