Package: simpIntLists Version: 1.46.0 Command: /home/biocbuild/bbs-3.22-bioc/R/bin/R CMD check --install=check:simpIntLists.install-out.txt --library=/home/biocbuild/bbs-3.22-bioc/R/site-library --timings simpIntLists_1.46.0.tar.gz StartedAt: 2025-11-13 13:09:59 -0500 (Thu, 13 Nov 2025) EndedAt: 2025-11-13 13:10:52 -0500 (Thu, 13 Nov 2025) EllapsedTime: 53.0 seconds RetCode: 0 Status: WARNINGS CheckDir: simpIntLists.Rcheck Warnings: 1