Package: signatureSearchData Version: 1.24.0 Command: /home/biocbuild/bbs-3.22-bioc/R/bin/R CMD INSTALL signatureSearchData StartedAt: 2025-11-18 10:57:38 -0500 (Tue, 18 Nov 2025) EndedAt: 2025-11-18 10:57:43 -0500 (Tue, 18 Nov 2025) EllapsedTime: 5.0 seconds RetCode: 0 Status: OK