Package: signatureSearchData Version: 1.24.0 Command: /home/biocbuild/bbs-3.22-bioc/R/bin/R CMD check --install=check:signatureSearchData.install-out.txt --library=/home/biocbuild/bbs-3.22-bioc/R/site-library --timings signatureSearchData_1.24.0.tar.gz StartedAt: 2025-11-18 13:38:33 -0500 (Tue, 18 Nov 2025) EndedAt: 2025-11-18 13:39:36 -0500 (Tue, 18 Nov 2025) EllapsedTime: 63.3 seconds RetCode: 0 Status: OK CheckDir: signatureSearchData.Rcheck Warnings: 0