Package: signatureSearchData Version: 1.24.0 Command: /home/biocbuild/bbs-3.22-bioc/R/bin/R CMD build --keep-empty-dirs --no-resave-data signatureSearchData StartedAt: 2025-11-18 12:09:42 -0500 (Tue, 18 Nov 2025) EndedAt: 2025-11-18 12:09:57 -0500 (Tue, 18 Nov 2025) EllapsedTime: 15.5 seconds RetCode: 0 Status: OK PackageFile: signatureSearchData_1.24.0.tar.gz PackageFileSize: 656.8 KiB