Package: shinyMethylData Version: 1.30.0 Command: /home/biocbuild/bbs-3.22-bioc/R/bin/R CMD INSTALL shinyMethylData StartedAt: 2025-10-30 10:56:10 -0400 (Thu, 30 Oct 2025) EndedAt: 2025-10-30 10:56:30 -0400 (Thu, 30 Oct 2025) EllapsedTime: 19.5 seconds RetCode: 0 Status: OK