Package: shinyMethylData Version: 1.30.0 Command: /home/biocbuild/bbs-3.22-bioc/R/bin/R CMD build --keep-empty-dirs --no-resave-data shinyMethylData StartedAt: 2025-10-30 11:53:40 -0400 (Thu, 30 Oct 2025) EndedAt: 2025-10-30 11:53:46 -0400 (Thu, 30 Oct 2025) EllapsedTime: 5.3 seconds RetCode: 0 Status: OK PackageFile: shinyMethylData_1.30.0.tar.gz PackageFileSize: 35.58 MiB