Package: seventyGeneData Version: 1.46.0 Command: /home/biocbuild/bbs-3.22-bioc/R/bin/R CMD build --keep-empty-dirs --no-resave-data seventyGeneData StartedAt: 2025-10-30 11:53:17 -0400 (Thu, 30 Oct 2025) EndedAt: 2025-10-30 11:53:40 -0400 (Thu, 30 Oct 2025) EllapsedTime: 23.3 seconds RetCode: 0 Status: OK PackageFile: seventyGeneData_1.46.0.tar.gz PackageFileSize: 145.1 MiB